BEGIN:VCALENDAR
VERSION:2.0
PRODID:-//Town of Langham - ECPv6.15.20//NONSGML v1.0//EN
CALSCALE:GREGORIAN
METHOD:PUBLISH
X-WR-CALNAME:Town of Langham
X-ORIGINAL-URL:https://langham.ca
X-WR-CALDESC:Events for Town of Langham
REFRESH-INTERVAL;VALUE=DURATION:PT1H
X-Robots-Tag:noindex
X-PUBLISHED-TTL:PT1H
BEGIN:VTIMEZONE
TZID:UTC
BEGIN:STANDARD
TZOFFSETFROM:+0000
TZOFFSETTO:+0000
TZNAME:UTC
DTSTART:20200101T000000
END:STANDARD
END:VTIMEZONE
BEGIN:VEVENT
DTSTART;TZID=UTC:20210717T140000
DTEND;TZID=UTC:20210717T223000
DTSTAMP:20260421T205312
CREATED:20210706T151647Z
LAST-MODIFIED:20210706T151652Z
UID:606-1626530400-1626561000@langham.ca
SUMMARY:Henrietta BBQ
DESCRIPTION:Horseshoe Tournament\nFireworks
URL:https://langham.ca/event/henrietta-bbq/
END:VEVENT
END:VCALENDAR