BEGIN:VCALENDAR
VERSION:2.0
PRODID:-//Town of Langham - ECPv6.15.20//NONSGML v1.0//EN
CALSCALE:GREGORIAN
METHOD:PUBLISH
X-ORIGINAL-URL:https://langham.ca
X-WR-CALDESC:Events for Town of Langham
REFRESH-INTERVAL;VALUE=DURATION:PT1H
X-Robots-Tag:noindex
X-PUBLISHED-TTL:PT1H
BEGIN:VTIMEZONE
TZID:UTC
BEGIN:STANDARD
TZOFFSETFROM:+0000
TZOFFSETTO:+0000
TZNAME:UTC
DTSTART:20200101T000000
END:STANDARD
END:VTIMEZONE
BEGIN:VEVENT
DTSTART;TZID=UTC:20210728T093000
DTEND;TZID=UTC:20210728T150000
DTSTAMP:20260421T191859
CREATED:20210720T150056Z
LAST-MODIFIED:20210720T150512Z
UID:614-1627464600-1627484400@langham.ca
SUMMARY:SHA COVID-19 Vaccination Clinic
DESCRIPTION:
URL:https://langham.ca/event/sha-vaccination-clinic/
LOCATION:Affinity Community Hall
END:VEVENT
BEGIN:VEVENT
DTSTART;TZID=UTC:20210728T113000
DTEND;TZID=UTC:20210728T133000
DTSTAMP:20260421T191859
CREATED:20210720T150433Z
LAST-MODIFIED:20210720T150852Z
UID:619-1627471800-1627479000@langham.ca
SUMMARY:Access Communication - Free BBQ
DESCRIPTION:
URL:https://langham.ca/event/access-communication-free-bbq/
LOCATION:Langham Community Park
END:VEVENT
END:VCALENDAR