BEGIN:VCALENDAR
VERSION:2.0
PRODID:-//Town of Langham - ECPv6.15.20//NONSGML v1.0//EN
CALSCALE:GREGORIAN
METHOD:PUBLISH
X-ORIGINAL-URL:https://langham.ca
X-WR-CALDESC:Events for Town of Langham
REFRESH-INTERVAL;VALUE=DURATION:PT1H
X-Robots-Tag:noindex
X-PUBLISHED-TTL:PT1H
BEGIN:VTIMEZONE
TZID:UTC
BEGIN:STANDARD
TZOFFSETFROM:+0000
TZOFFSETTO:+0000
TZNAME:UTC
DTSTART:20200101T000000
END:STANDARD
END:VTIMEZONE
BEGIN:VEVENT
DTSTART;TZID=UTC:20210729T093000
DTEND;TZID=UTC:20210729T150000
DTSTAMP:20260421T191859
CREATED:20210720T150134Z
LAST-MODIFIED:20210720T150328Z
UID:617-1627551000-1627570800@langham.ca
SUMMARY:SHA COVID-19 Vaccine Clinic
DESCRIPTION:
URL:https://langham.ca/event/sha-covid-19-vaccine-clinic/
LOCATION:Affinity Community Hall
END:VEVENT
END:VCALENDAR