BEGIN:VCALENDAR
VERSION:2.0
PRODID:-//Town of Langham - ECPv6.15.20//NONSGML v1.0//EN
CALSCALE:GREGORIAN
METHOD:PUBLISH
X-WR-CALNAME:Town of Langham
X-ORIGINAL-URL:https://langham.ca
X-WR-CALDESC:Events for Town of Langham
REFRESH-INTERVAL;VALUE=DURATION:PT1H
X-Robots-Tag:noindex
X-PUBLISHED-TTL:PT1H
BEGIN:VTIMEZONE
TZID:UTC
BEGIN:STANDARD
TZOFFSETFROM:+0000
TZOFFSETTO:+0000
TZNAME:UTC
DTSTART:20200101T000000
END:STANDARD
END:VTIMEZONE
BEGIN:VEVENT
DTSTART;TZID=UTC:20211013T190000
DTEND;TZID=UTC:20211013T210000
DTSTAMP:20260421T163017
CREATED:20211005T195316Z
LAST-MODIFIED:20211005T195316Z
UID:710-1634151600-1634158800@langham.ca
SUMMARY:Langham Curling Club Registration
DESCRIPTION:Interested in joining Curling? \n\n\n \n\n\nThe Langham Curling Club is hosting its AGM and registration night on Wednesday\, October 13th at 7:00 pm in Langham Curling rink. \n\n\nPlease attend for information for our upcoming season.
URL:https://langham.ca/event/langham-curling-club-registration/
LOCATION:Langham Curling Rink\, 113 Main Street E.\, Langham\, Saskatchewan\, S0K 2L0\, Canada
END:VEVENT
END:VCALENDAR