BEGIN:VCALENDAR
VERSION:2.0
PRODID:-//Town of Langham - ECPv6.15.20//NONSGML v1.0//EN
CALSCALE:GREGORIAN
METHOD:PUBLISH
X-ORIGINAL-URL:https://langham.ca
X-WR-CALDESC:Events for Town of Langham
REFRESH-INTERVAL;VALUE=DURATION:PT1H
X-Robots-Tag:noindex
X-PUBLISHED-TTL:PT1H
BEGIN:VTIMEZONE
TZID:UTC
BEGIN:STANDARD
TZOFFSETFROM:+0000
TZOFFSETTO:+0000
TZNAME:UTC
DTSTART:20200101T000000
END:STANDARD
END:VTIMEZONE
BEGIN:VEVENT
DTSTART;TZID=UTC:20211101T190000
DTEND;TZID=UTC:20211101T210000
DTSTAMP:20260421T150910
CREATED:20211020T153658Z
LAST-MODIFIED:20211020T153713Z
UID:718-1635793200-1635800400@langham.ca
SUMMARY:Town Hall Meeting
DESCRIPTION:
URL:https://langham.ca/event/town-hall-meeting/
LOCATION:Affinity Community Hall
END:VEVENT
END:VCALENDAR