BEGIN:VCALENDAR
VERSION:2.0
PRODID:-//Town of Langham - ECPv6.15.20//NONSGML v1.0//EN
CALSCALE:GREGORIAN
METHOD:PUBLISH
X-ORIGINAL-URL:https://langham.ca
X-WR-CALDESC:Events for Town of Langham
REFRESH-INTERVAL;VALUE=DURATION:PT1H
X-Robots-Tag:noindex
X-PUBLISHED-TTL:PT1H
BEGIN:VTIMEZONE
TZID:UTC
BEGIN:STANDARD
TZOFFSETFROM:+0000
TZOFFSETTO:+0000
TZNAME:UTC
DTSTART:20200101T000000
END:STANDARD
END:VTIMEZONE
BEGIN:VEVENT
DTSTART;VALUE=DATE:20211224
DTEND;VALUE=DATE:20211225
DTSTAMP:20260421T133623
CREATED:20211116T203030Z
LAST-MODIFIED:20211116T203030Z
UID:764-1640304000-1640390399@langham.ca
SUMMARY:NO Public Skating
DESCRIPTION:There will be no public skating on December 24. Merry Christmas!
URL:https://langham.ca/event/no-public-skating/
END:VEVENT
BEGIN:VEVENT
DTSTART;TZID=UTC:20211224T090000
DTEND;TZID=UTC:20211224T150000
DTSTAMP:20260421T133623
CREATED:20211201T153143Z
LAST-MODIFIED:20211201T153423Z
UID:801-1640336400-1640358000@langham.ca
SUMMARY:Holiday Hours - Office Closes at 12pm
DESCRIPTION:
URL:https://langham.ca/event/holiday-hours-office-closes-at-3pm/
END:VEVENT
END:VCALENDAR