BEGIN:VCALENDAR
VERSION:2.0
PRODID:-//Town of Langham - ECPv6.15.20//NONSGML v1.0//EN
CALSCALE:GREGORIAN
METHOD:PUBLISH
X-ORIGINAL-URL:https://langham.ca
X-WR-CALDESC:Events for Town of Langham
REFRESH-INTERVAL;VALUE=DURATION:PT1H
X-Robots-Tag:noindex
X-PUBLISHED-TTL:PT1H
BEGIN:VTIMEZONE
TZID:UTC
BEGIN:STANDARD
TZOFFSETFROM:+0000
TZOFFSETTO:+0000
TZNAME:UTC
DTSTART:20200101T000000
END:STANDARD
END:VTIMEZONE
BEGIN:VEVENT
DTSTART;TZID=UTC:20210907T173000
DTEND;TZID=UTC:20210907T200000
DTSTAMP:20260421T163036
CREATED:20210903T170243Z
LAST-MODIFIED:20210903T170301Z
UID:669-1631035800-1631044800@langham.ca
SUMMARY:Passport to Langham
DESCRIPTION:
URL:https://langham.ca/event/passport-to-langham/
END:VEVENT
BEGIN:VEVENT
DTSTART;TZID=UTC:20210913T183000
DTEND;TZID=UTC:20210913T183000
DTSTAMP:20260421T163036
CREATED:20210608T171309Z
LAST-MODIFIED:20210608T171309Z
UID:557-1631557800-1631557800@langham.ca
SUMMARY:Town Council Meeting
DESCRIPTION:
URL:https://langham.ca/event/town-council-meeting-5/
END:VEVENT
BEGIN:VEVENT
DTSTART;VALUE=DATE:20210918
DTEND;VALUE=DATE:20210919
DTSTAMP:20260421T163036
CREATED:20210908T161114Z
LAST-MODIFIED:20210908T161114Z
UID:679-1631923200-1632009599@langham.ca
SUMMARY:Langham Skating Club Bottle Drive
DESCRIPTION:
URL:https://langham.ca/event/langham-skating-club-bottle-drive/
END:VEVENT
BEGIN:VEVENT
DTSTART;TZID=UTC:20210918T133000
DTEND;TZID=UTC:20210918T150000
DTSTAMP:20260421T163036
CREATED:20210909T170500Z
LAST-MODIFIED:20210909T170500Z
UID:685-1631971800-1631977200@langham.ca
SUMMARY:Pre-School Grand Opening
DESCRIPTION:Pre-School Grand Opening Invitation
URL:https://langham.ca/event/pre-school-grand-opening/
LOCATION:203 Main Street
END:VEVENT
BEGIN:VEVENT
DTSTART;TZID=UTC:20210918T150000
DTEND;TZID=UTC:20210918T170000
DTSTAMP:20260421T163036
CREATED:20210909T170618Z
LAST-MODIFIED:20210909T170618Z
UID:689-1631977200-1631984400@langham.ca
SUMMARY:Langham Lagoon Grand Opening
DESCRIPTION:Lagoon Grand Opening Invitation
URL:https://langham.ca/event/langham-lagoon-grand-opening/
LOCATION:Langham Lagoon SW-29-39-07-W3
END:VEVENT
BEGIN:VEVENT
DTSTART;TZID=UTC:20210925T140000
DTEND;TZID=UTC:20210925T160000
DTSTAMP:20260421T163036
CREATED:20210920T195543Z
LAST-MODIFIED:20210920T195558Z
UID:703-1632578400-1632585600@langham.ca
SUMMARY:Volunteer Appreciation
DESCRIPTION:Save the Date!\nSeptember 25th\n2 -4 PM\nAffinity Hall\nRefreshments Available.\n\n\nWe would like to hear from our volunteers!! We want to know who you are\, what you do\, why you do it\, what you need\, and what is important to you!!\nWe want to celebrate you\, acknowledge you\, and bring you together!\n\n\n**We also would like to visit the idea of creating a Rec Board and would like your thoughts on it.**\n\n\nMany of the known volunteer groups have already received a letter and form to fill out.\n\n\nAnd lastly\, maybe you don’t volunteer much today\, but are thinking of getting involved – please come!! Hear about the organizations and how they impact our communities! Maybe you’ll find a passion!\nWe will try to space out seating\, will provide sanitizer\, and would recommend you come with a mask in order to protect our most vulnerable.\nIf you are uncomfortable attending\, or simply can’t make it\, please reach out to Councillor Carol or Councillor Dione as we would still love to have your feedback!!\nThe September newsletter is out now\, and all the information can be found there\, too!\nPlease share this message with every volunteer you know – not everyone is on facebook!!\nSee you there!!!
URL:https://langham.ca/event/volunteer-appreciation/
LOCATION:Affinity Community Hall
END:VEVENT
BEGIN:VEVENT
DTSTART;TZID=UTC:20210927T183000
DTEND;TZID=UTC:20210927T183000
DTSTAMP:20260421T163036
CREATED:20210608T171335Z
LAST-MODIFIED:20210608T171335Z
UID:559-1632767400-1632767400@langham.ca
SUMMARY:Town Council Meeting
DESCRIPTION:
URL:https://langham.ca/event/town-council-meeting-6/
END:VEVENT
END:VCALENDAR